BEGIN:VCALENDAR
VERSION:2.0
PRODID:-//Sacred Art of Living - ECPv6.15.17//NONSGML v1.0//EN
CALSCALE:GREGORIAN
METHOD:PUBLISH
X-WR-CALNAME:Sacred Art of Living
X-ORIGINAL-URL:https://sacredartofliving.org
X-WR-CALDESC:Events for Sacred Art of Living
REFRESH-INTERVAL;VALUE=DURATION:PT1H
X-Robots-Tag:noindex
X-PUBLISHED-TTL:PT1H
BEGIN:VTIMEZONE
TZID:America/Los_Angeles
BEGIN:DAYLIGHT
TZOFFSETFROM:-0800
TZOFFSETTO:-0700
TZNAME:PDT
DTSTART:20240310T100000
END:DAYLIGHT
BEGIN:STANDARD
TZOFFSETFROM:-0700
TZOFFSETTO:-0800
TZNAME:PST
DTSTART:20241103T090000
END:STANDARD
BEGIN:DAYLIGHT
TZOFFSETFROM:-0800
TZOFFSETTO:-0700
TZNAME:PDT
DTSTART:20250309T100000
END:DAYLIGHT
BEGIN:STANDARD
TZOFFSETFROM:-0700
TZOFFSETTO:-0800
TZNAME:PST
DTSTART:20251102T090000
END:STANDARD
BEGIN:DAYLIGHT
TZOFFSETFROM:-0800
TZOFFSETTO:-0700
TZNAME:PDT
DTSTART:20260308T100000
END:DAYLIGHT
BEGIN:STANDARD
TZOFFSETFROM:-0700
TZOFFSETTO:-0800
TZNAME:PST
DTSTART:20261101T090000
END:STANDARD
BEGIN:DAYLIGHT
TZOFFSETFROM:-0800
TZOFFSETTO:-0700
TZNAME:PDT
DTSTART:20270314T100000
END:DAYLIGHT
BEGIN:STANDARD
TZOFFSETFROM:-0700
TZOFFSETTO:-0800
TZNAME:PST
DTSTART:20271107T090000
END:STANDARD
END:VTIMEZONE
BEGIN:VEVENT
DTSTART;TZID=America/Los_Angeles:20260206T180000
DTEND;TZID=America/Los_Angeles:20260207T090000
DTSTAMP:20260421T044834
CREATED:20250212T234901Z
LAST-MODIFIED:20250925T232342Z
UID:10517-1770400800-1770454800@sacredartofliving.org
SUMMARY:2026 Circle of Life Event: Sacred Earth Sacred Soul with John Philip Newell and Cami Twilling
DESCRIPTION:Sacred Earth Sacred Soul: An Evening Talk & Full Day Retreat with John Philip Newell and Cami Twilling in which the wisdom teachings of John Philip Newell and the spiritual practices of Cami Twilling call us to be aware of the sacredness of the Earth and every human being as key to the way of transformation and healing in our lives and the world.  The retreat focuses on the main themes of John Philip’s award-winning book\, Sacred Earth Sacred Soul: Celtic Wisdom for Reawakening to What Our Souls Know and Healing the World.
URL:https://sacredartofliving.org/event/circle-of-life-event-sacred-earth-sacred-soul/
CATEGORIES:Circle of Life
ATTACH;FMTTYPE=image/jpeg:https://sacredartofliving.org/wp-content/uploads/2025/02/2026-Circle-of-Life-Event.jpg
END:VEVENT
BEGIN:VEVENT
DTSTART;TZID=America/Los_Angeles:20251006T183000
DTEND;TZID=America/Los_Angeles:20251019T193000
DTSTAMP:20260421T044834
CREATED:20251006T175441Z
LAST-MODIFIED:20251015T153943Z
UID:11305-1759775400-1760902200@sacredartofliving.org
SUMMARY:A Online Study Group - The Great Search with Rev. Sharon Edwards & Martha Henderson
DESCRIPTION:FREE EVENT In Preparation for the 2026 Circle of Life Event on February 6 & 7: Sacred Earth\, Sacred Soul with John Philip Newell and Cami Twilling\, and in partnership with the Sacred Art of Living Center. This event invites you to explore John Phillip Newell’s latest book\, “The Great Search”. This is a Free Online Study Group Event. To register\, click the following link. https://bendfp.org/events/event/the-great-search-study-zoom/
URL:https://sacredartofliving.org/event/a-online-study-group-event-the-great-search-with-rev-sharon-edwards-martha-henderson/
CATEGORIES:Circle of Life
ATTACH;FMTTYPE=image/png:https://sacredartofliving.org/wp-content/uploads/2025/10/Healing-Through-Grief-Loss.png
END:VEVENT
END:VCALENDAR